BEGIN:VCALENDAR
VERSION:2.0
PRODID:-//Sarah Maria Sun - ECPv4.0.5//NONSGML v1.0//EN
CALSCALE:GREGORIAN
METHOD:PUBLISH
X-WR-CALNAME:Sarah Maria Sun
X-ORIGINAL-URL:https://sarahmariasun.de
X-WR-CALDESC:Events for Sarah Maria Sun
BEGIN:VEVENT
DTSTART;VALUE=DATE:20201115
DTEND;VALUE=DATE:20201115
DTSTAMP:20260420T121022
CREATED:20200807
LAST-MODIFIED:20200807
UID:3374-1605398400-1605484799@sarahmariasun.de
SUMMARY:Zug (Schweiz)\, Theater Casino
DESCRIPTION:KILLER INSTINCTS / Jan Philip Schulze\, piano
URL:https://sarahmariasun.de/event/zug-schweiz-theater-casino/
END:VEVENT
END:VCALENDAR