BEGIN:VCALENDAR
VERSION:2.0
PRODID:-//Sarah Maria Sun - ECPv4.0.5//NONSGML v1.0//EN
CALSCALE:GREGORIAN
METHOD:PUBLISH
X-WR-CALNAME:Sarah Maria Sun
X-ORIGINAL-URL:https://sarahmariasun.de
X-WR-CALDESC:Events for Sarah Maria Sun
BEGIN:VEVENT
DTSTART;TZID="Europe/Berlin":20220403T193000
DTEND;TZID="Europe/Berlin":20220403T210000
DTSTAMP:20260421T013307
CREATED:20220124T080926
LAST-MODIFIED:20220124T080926
UID:3654-1649014200-1649019600@sarahmariasun.de
SUMMARY:Stuttgart\, Liederhalle/Hegelsaal
DESCRIPTION:Felix Mendelssohn: "Die Hebriden"\, Ouvertüre op. 26 / Jörg Widmann: Versuch über die Fuge\, Fassung für Sopran\, Oboe und Kammerorchester / Wolfgang Amadeus Mozart: Adagio und Fuge c-Moll KV 546 / Felix Mendelssohn: Sinfonie Nr. 5 "Reformationssinfonie"\, op. 107 // Jörg Widmann\, conductor // Stuttgarter Kammerorchester
URL:https://sarahmariasun.de/event/stuttgart-liederhallehegelsaal/
END:VEVENT
END:VCALENDAR