BEGIN:VCALENDAR
VERSION:2.0
PRODID:-//Sarah Maria Sun - ECPv4.0.5//NONSGML v1.0//EN
CALSCALE:GREGORIAN
METHOD:PUBLISH
X-WR-CALNAME:Sarah Maria Sun
X-ORIGINAL-URL:https://sarahmariasun.de
X-WR-CALDESC:Events for Sarah Maria Sun
BEGIN:VEVENT
DTSTART;VALUE=DATE:20201110
DTEND;VALUE=DATE:20201110
DTSTAMP:20260420T121651
CREATED:20200807
LAST-MODIFIED:20210209
UID:3373-1604966400-1605052799@sarahmariasun.de
SUMMARY:cancelled: S'Hertogenbosch\, Novembermusic
DESCRIPTION:Dieter Schnebel (James Joyce): Yes I Will Yes / Vanessa Porter\, percussion / electronics made by Gabriel Dernbach / video: Axel Schäffler
URL:https://sarahmariasun.de/event/shertogenbosch-novembermusic/
END:VEVENT
END:VCALENDAR