BEGIN:VCALENDAR
VERSION:2.0
PRODID:-//Sarah Maria Sun - ECPv4.0.5//NONSGML v1.0//EN
CALSCALE:GREGORIAN
METHOD:PUBLISH
X-WR-CALNAME:Sarah Maria Sun
X-ORIGINAL-URL:https://sarahmariasun.de
X-WR-CALDESC:Events for Sarah Maria Sun
BEGIN:VEVENT
DTSTART;VALUE=DATE:20230322
DTEND;VALUE=DATE:20230322
DTSTAMP:20260421T011842
CREATED:20220318
LAST-MODIFIED:20220318
UID:3725-1679443200-1679529599@sarahmariasun.de
SUMMARY:Semperoper Dresden\, Semper Zwei
DESCRIPTION:Philip Venables: Psychose 4.48 (after Sarah Kane) // music theatre
URL:https://sarahmariasun.de/event/semperoper-dresden-semper-zwei-12/
END:VEVENT
END:VCALENDAR