BEGIN:VCALENDAR
VERSION:2.0
PRODID:-//Sarah Maria Sun - ECPv4.0.5//NONSGML v1.0//EN
CALSCALE:GREGORIAN
METHOD:PUBLISH
X-WR-CALNAME:Sarah Maria Sun
X-ORIGINAL-URL:https://sarahmariasun.de
X-WR-CALDESC:Events for Sarah Maria Sun
BEGIN:VEVENT
DTSTART;VALUE=DATE:20230321
DTEND;VALUE=DATE:20230321
DTSTAMP:20260420T233109
CREATED:20220318
LAST-MODIFIED:20220318
UID:3724-1679356800-1679443199@sarahmariasun.de
SUMMARY:Semperoper Dresden\, Semper Zwei
DESCRIPTION:Philip Venables: Psychose 4.48 (after Sarah Kane) // music theatre
URL:https://sarahmariasun.de/event/semperoper-dresden-semper-zwei-11/
END:VEVENT
END:VCALENDAR