BEGIN:VCALENDAR
VERSION:2.0
PRODID:-//Sarah Maria Sun - ECPv4.0.5//NONSGML v1.0//EN
CALSCALE:GREGORIAN
METHOD:PUBLISH
X-WR-CALNAME:Sarah Maria Sun
X-ORIGINAL-URL:https://sarahmariasun.de
X-WR-CALDESC:Events for Sarah Maria Sun
BEGIN:VEVENT
DTSTART;VALUE=DATE:20210430
DTEND;VALUE=DATE:20210430
DTSTAMP:20260421T101118
CREATED:20201023
LAST-MODIFIED:20210416
UID:3433-1619740800-1619827199@sarahmariasun.de
SUMMARY:verschoben auf 2023: Schwetzingen\, Rokokotheater
DESCRIPTION:World Premiere: "Dickicht"\, Music Theatre by Isabel Mundry. Libretto by Händel Klaus. Peter Rundel Musikalische Leitung / David Hermann Regie/ Bettina Meyer Bühne / You-Jin Seo Kostüme / Ulrich Schneider Licht / Elena Garcia Fernandez DramaturgieSarah Maria Sun Frau / Sopran / Michael Dahmen Mann / Bariton / Stephan Bootz Räuber / Bass / Maren Schwier Richterin / Sopran / Bernhard Landauer Zeuge 1\, Zeuge 2\, Zeuge 3 / Countertenor / SWR SYMPHONIEORCHESTER / SWR VOKALENSEMBLE
URL:https://sarahmariasun.de/event/schwetzingen-rokokotheater/
END:VEVENT
END:VCALENDAR