BEGIN:VCALENDAR
VERSION:2.0
PRODID:-//Sarah Maria Sun - ECPv4.0.5//NONSGML v1.0//EN
CALSCALE:GREGORIAN
METHOD:PUBLISH
X-WR-CALNAME:Sarah Maria Sun
X-ORIGINAL-URL:https://sarahmariasun.de
X-WR-CALDESC:Events for Sarah Maria Sun
BEGIN:VEVENT
DTSTART;VALUE=DATE:20240427
DTEND;VALUE=DATE:20240427
DTSTAMP:20260421T101615
CREATED:20231015
LAST-MODIFIED:20231015
UID:4021-1714176000-1714262399@sarahmariasun.de
SUMMARY:Schlossfestspiele Schwetzingen
DESCRIPTION:Opening of „Imagined Garden“ // A visual and auditive Installation about plants’ intelligence\, created for the Orangery of the Schwetzinger Schlossfestspiele // Visual Installation by Grace Ellen Barkey / Sound Sculptures by Tamara Miller / Idea&Organisation: Sarah Maria Sun
URL:https://sarahmariasun.de/event/schlossfestspiele-schwetzingen/
END:VEVENT
END:VCALENDAR