BEGIN:VCALENDAR
VERSION:2.0
PRODID:-//Sarah Maria Sun - ECPv4.0.5//NONSGML v1.0//EN
CALSCALE:GREGORIAN
METHOD:PUBLISH
X-WR-CALNAME:Sarah Maria Sun
X-ORIGINAL-URL:https://sarahmariasun.de
X-WR-CALDESC:Events for Sarah Maria Sun
BEGIN:VEVENT
DTSTART;VALUE=DATE:20210709
DTEND;VALUE=DATE:20210709
DTSTAMP:20260421T100921
CREATED:20201023
LAST-MODIFIED:20210416
UID:3448-1625788800-1625875199@sarahmariasun.de
SUMMARY:verschoben auf 2023: Oper Mainz
DESCRIPTION:World Premiere: "Dickicht"\, Music Theatre by Isabel Mundry. Libretto by Händel Klaus. Peter Rundel Musikalische Leitung / David Hermann Regie/ Bettina Meyer Bühne / You-Jin Seo Kostüme / Ulrich Schneider Licht / Elena Garcia Fernandez DramaturgieSarah Maria Sun Frau / Sopran / Michael Dahmen Mann / Bariton / Stephan Bootz Räuber / Bass / Maren Schwier Richterin / Sopran / Bernhard Landauer Zeuge 1\, Zeuge 2\, Zeuge 3 / Countertenor / SWR SYMPHONIEORCHESTER / SWR VOKALENSEMBLE
URL:https://sarahmariasun.de/event/oper-mainz-5/
END:VEVENT
END:VCALENDAR