BEGIN:VCALENDAR
VERSION:2.0
PRODID:-//Sarah Maria Sun - ECPv4.0.5//NONSGML v1.0//EN
CALSCALE:GREGORIAN
METHOD:PUBLISH
X-WR-CALNAME:Sarah Maria Sun
X-ORIGINAL-URL:https://sarahmariasun.de
X-WR-CALDESC:Events for Sarah Maria Sun
BEGIN:VEVENT
DTSTART;TZID="Europe/Berlin":20200906T120000
DTEND;TZID="Europe/Berlin":20200906T130000
DTSTAMP:20260420T115951
CREATED:20200807T083832
LAST-MODIFIED:20200807T083832
UID:3363-1599393600-1599397200@sarahmariasun.de
SUMMARY:Niedersächsische Musiktage\, Quakenbrück Marktplatz
DESCRIPTION:KILLER INSTINCTS / Jan Philip Schulze\, piano / Hubert Steiner\, drums\, guitars\, bass / Silvester von Hößlin\, reading
URL:https://sarahmariasun.de/event/niedersachsische-musiktage-quakenbruck-marktplatz/
END:VEVENT
END:VCALENDAR