BEGIN:VCALENDAR
VERSION:2.0
PRODID:-//Sarah Maria Sun - ECPv4.0.5//NONSGML v1.0//EN
CALSCALE:GREGORIAN
METHOD:PUBLISH
X-WR-CALNAME:Sarah Maria Sun
X-ORIGINAL-URL:https://sarahmariasun.de
X-WR-CALDESC:Events for Sarah Maria Sun
BEGIN:VEVENT
DTSTART;TZID="Europe/Berlin":20200905T180000
DTEND;TZID="Europe/Berlin":20200905T190000
DTSTAMP:20260420T115601
CREATED:20200807T083736
LAST-MODIFIED:20200807T083736
UID:3362-1599328800-1599332400@sarahmariasun.de
SUMMARY:Niedersächsische Musiktage\, Nordhorn\, Kloster Frenswegen
DESCRIPTION:KILLER INSTINCTS / Jan Philip Schulze\, piano / Hubert Steiner\, drums\, guitars\, bass / Silvester von Hößlin\, reading
URL:https://sarahmariasun.de/event/niedersachsische-musiktage-nordhorn-kloster-frenswegen/
END:VEVENT
END:VCALENDAR