BEGIN:VCALENDAR
VERSION:2.0
PRODID:-//Sarah Maria Sun - ECPv4.0.5//NONSGML v1.0//EN
CALSCALE:GREGORIAN
METHOD:PUBLISH
X-WR-CALNAME:Sarah Maria Sun
X-ORIGINAL-URL:https://sarahmariasun.de
X-WR-CALDESC:Events for Sarah Maria Sun
BEGIN:VEVENT
DTSTART;VALUE=DATE:20200525
DTEND;VALUE=DATE:20200525
DTSTAMP:20260420T151428
CREATED:20191014
LAST-MODIFIED:20200807
UID:3146-1590364800-1590451199@sarahmariasun.de
SUMMARY:Musikfest Hamburg\, Elbphilharmonie - cancelled
DESCRIPTION:Musiktheater:Jannik Giger\, Leo Hofmann\, Benjamin van Bebber: "Kolik" (Text by Rainald Götz) / Angelika Löfflat\, performance / Azra Ramić (Bassklarinette)\, Lucas Rössner (Kontraforte)\, Samuel Stoll (Horn)\, Stephen Menotti (Posaune) & Solistenensemble Kaleidoskop: Hannah Walter (Violine)\, Ildiko Ludwig (Viola)\, Tilman Kanitz (Cello)\, Paul Wheatley (Kontrabass) / Composition for Ensemble & Playbacks: Jannik Giger / Audioplay & Electronics: Leo Hofmann / Libretto&stage direction: Benjamin van Bebber / sound direction: Lukas Huber / stage6costume design: Lea Burkhalter
URL:https://sarahmariasun.de/event/musikfest-hamburg-elbphilharmonie/
END:VEVENT
END:VCALENDAR