BEGIN:VCALENDAR
VERSION:2.0
PRODID:-//Sarah Maria Sun - ECPv4.0.5//NONSGML v1.0//EN
CALSCALE:GREGORIAN
METHOD:PUBLISH
X-WR-CALNAME:Sarah Maria Sun
X-ORIGINAL-URL:https://sarahmariasun.de
X-WR-CALDESC:Events for Sarah Maria Sun
BEGIN:VEVENT
DTSTART;VALUE=DATE:20201118
DTEND;VALUE=DATE:20201118
DTSTAMP:20260420T114904
CREATED:20191014
LAST-MODIFIED:20210209
UID:3140-1605657600-1605743999@sarahmariasun.de
SUMMARY:cancelled: München\, Akademie der Künste
DESCRIPTION:Dieter Schnebel: Monodram "Yes I will Yes" (Text from "Ulysses" by James Joyce) / Vanessa Porter\, percussion / Andreas Rottweiler (Gabriel Dernbach)\, electronics
URL:https://sarahmariasun.de/event/munchen-haus-der-kunste/
END:VEVENT
END:VCALENDAR