BEGIN:VCALENDAR
VERSION:2.0
PRODID:-//Sarah Maria Sun - ECPv4.0.5//NONSGML v1.0//EN
CALSCALE:GREGORIAN
METHOD:PUBLISH
X-WR-CALNAME:Sarah Maria Sun
X-ORIGINAL-URL:https://sarahmariasun.de
X-WR-CALDESC:Events for Sarah Maria Sun
BEGIN:VEVENT
DTSTART;VALUE=DATE:20240129
DTEND;VALUE=DATE:20240131
DTSTAMP:20260421T113005
CREATED:20231010
LAST-MODIFIED:20231010
UID:4005-1706486400-1706745599@sarahmariasun.de
SUMMARY:Masterclass: Volksoper Wien
DESCRIPTION:Masterclass for Contemporary Vocal Music
URL:https://sarahmariasun.de/event/masterclass-volksoper-wien/
END:VEVENT
END:VCALENDAR