BEGIN:VCALENDAR
VERSION:2.0
PRODID:-//Sarah Maria Sun - ECPv4.0.5//NONSGML v1.0//EN
CALSCALE:GREGORIAN
METHOD:PUBLISH
X-WR-CALNAME:Sarah Maria Sun
X-ORIGINAL-URL:https://sarahmariasun.de
X-WR-CALDESC:Events for Sarah Maria Sun
BEGIN:VEVENT
DTSTART;VALUE=DATE:20201121
DTEND;VALUE=DATE:20201121
DTSTAMP:20260420T092529
CREATED:20201023
LAST-MODIFIED:20210127
UID:3422-1605916800-1606003199@sarahmariasun.de
SUMMARY:cancelled: Lucerne Festival\, Maihof
DESCRIPTION:György Kurtag: Kafka-Fragmente op. 24Michael Hersch: sapped from me broken / World PremierePatricia Kopatchinskaja\, violinBram van Sambeek\, bassoon
URL:https://sarahmariasun.de/event/lucerne-festival-maihof/
END:VEVENT
END:VCALENDAR