BEGIN:VCALENDAR
VERSION:2.0
PRODID:-//Sarah Maria Sun - ECPv4.0.5//NONSGML v1.0//EN
CALSCALE:GREGORIAN
METHOD:PUBLISH
X-WR-CALNAME:Sarah Maria Sun
X-ORIGINAL-URL:https://sarahmariasun.de
X-WR-CALDESC:Events for Sarah Maria Sun
BEGIN:VEVENT
DTSTART;TZID="Europe/Berlin":20250822T210000
DTEND;TZID="Europe/Berlin":20250822T223000
DTSTAMP:20260420T103821
CREATED:20250702T061525
LAST-MODIFIED:20250702T061525
UID:4129-1755896400-1755901800@sarahmariasun.de
SUMMARY:Les Jardins Musicaux\, Cernier
DESCRIPTION:KURT WEILL Les Sept Péchés capitaux des petits bourgeois Texte de BERTOLT BRECHT // GYÖRGY LIGETI Mysteries of the Macabre // Anna I et Anna II et voix de soprano : Sarah Maria Sun / Fils 1 : Paul Kirby\, ténor / Fils 2 : Stuart Patterson\, ténor / Le père : Benoît Capt\, baryton / La mère : Grzegorz Różycki\, basse / Une speakerine : Anne Gillot / Direction musicale : Valentin Reymond / Scénographie et mise en espace : Christian Rätz / Lumières : Jean-Philippe Roy / Costumes : Samantha Landragin / Maquillages : Clara Gross / ORCHESTRE DES JARDINS MUSICAUX
URL:https://sarahmariasun.de/event/les-jardins-musicaux-cernier-2/
END:VEVENT
END:VCALENDAR