BEGIN:VCALENDAR
VERSION:2.0
PRODID:-//Sarah Maria Sun - ECPv4.0.5//NONSGML v1.0//EN
CALSCALE:GREGORIAN
METHOD:PUBLISH
X-WR-CALNAME:Sarah Maria Sun
X-ORIGINAL-URL:https://sarahmariasun.de
X-WR-CALDESC:Events for Sarah Maria Sun
BEGIN:VEVENT
DTSTART;TZID="Europe/Berlin":20240524T200000
DTEND;TZID="Europe/Berlin":20240524T220000
DTSTAMP:20260419T162313
CREATED:20231015T055519
LAST-MODIFIED:20231015T055545
UID:4024-1716580800-1716588000@sarahmariasun.de
SUMMARY:Kurhaus\, Hall in Tirol
DESCRIPTION:Im Portrait: Schönberg / Luft von anderen Planeten // Streichquartett II with Quatuor Diotima / Buch der Hängenden Gärten with Michael Schöch\, piano
URL:https://sarahmariasun.de/event/kurhaus-hall-in-tirol/
END:VEVENT
END:VCALENDAR