BEGIN:VCALENDAR
VERSION:2.0
PRODID:-//Sarah Maria Sun - ECPv4.0.5//NONSGML v1.0//EN
CALSCALE:GREGORIAN
METHOD:PUBLISH
X-WR-CALNAME:Sarah Maria Sun
X-ORIGINAL-URL:https://sarahmariasun.de
X-WR-CALDESC:Events for Sarah Maria Sun
BEGIN:VEVENT
DTSTART;VALUE=DATE:20260528
DTEND;VALUE=DATE:20260528
DTSTAMP:20260421T101719
CREATED:20260214
LAST-MODIFIED:20260214
UID:4181-1779926400-1780012799@sarahmariasun.de
SUMMARY:Kunstfestspiele Herrenhausen
DESCRIPTION:Von Vergänglichkeit & Zauber // Musik von Widmann\, Mendelssohn Bartholdy und Korngold / Dirigent Jörg Widmann / Sopran Sarah Maria Sun / Orchester NDR Radiophilharmonie
URL:https://sarahmariasun.de/event/kunstfestspiele-herrenhausen-3/
END:VEVENT
END:VCALENDAR