BEGIN:VCALENDAR
VERSION:2.0
PRODID:-//Sarah Maria Sun - ECPv4.0.5//NONSGML v1.0//EN
CALSCALE:GREGORIAN
METHOD:PUBLISH
X-WR-CALNAME:Sarah Maria Sun
X-ORIGINAL-URL:https://sarahmariasun.de
X-WR-CALDESC:Events for Sarah Maria Sun
BEGIN:VEVENT
DTSTART;VALUE=DATE:20240206
DTEND;VALUE=DATE:20240206
DTSTAMP:20260421T101719
CREATED:20231010
LAST-MODIFIED:20240225
UID:4006-1707177600-1707263999@sarahmariasun.de
SUMMARY:Zürcher Hochschule der Künste\, Zürich
DESCRIPTION:Fausto Romitelli: An Index of Metal // Gemma Ragués Pujol: Worl Premiere New Work // Collegium Novum Zürich / Delyana Lazarova\, conductor
URL:https://sarahmariasun.de/event/kraftwerk-selnau-zurich/
END:VEVENT
END:VCALENDAR