BEGIN:VCALENDAR
VERSION:2.0
PRODID:-//Sarah Maria Sun - ECPv4.0.5//NONSGML v1.0//EN
CALSCALE:GREGORIAN
METHOD:PUBLISH
X-WR-CALNAME:Sarah Maria Sun
X-ORIGINAL-URL:https://sarahmariasun.de
X-WR-CALDESC:Events for Sarah Maria Sun
BEGIN:VEVENT
DTSTART;VALUE=DATE:20201211
DTEND;VALUE=DATE:20201211
DTSTAMP:20260420T114904
CREATED:20200104
LAST-MODIFIED:20210127
UID:3263-1607644800-1607731199@sarahmariasun.de
SUMMARY:Live-Stream: Köln\, WDR
DESCRIPTION:KILL YOUR DARLINGS / Sara Glojnarić  "Artefacts #2" / Helmut Lachenmann "Notturno" / Mauricio Kagel  "Phantasie" / Malte Giesen "Massenprozession" (Uraufführung) / Lin Liao\, conductor / WDR Sinfonieorchester / Dirk Rothbrust\, percussion 
URL:https://sarahmariasun.de/event/koln-wdr-2/
END:VEVENT
END:VCALENDAR