BEGIN:VCALENDAR
VERSION:2.0
PRODID:-//Sarah Maria Sun - ECPv4.0.5//NONSGML v1.0//EN
CALSCALE:GREGORIAN
METHOD:PUBLISH
X-WR-CALNAME:Sarah Maria Sun
X-ORIGINAL-URL:https://sarahmariasun.de
X-WR-CALDESC:Events for Sarah Maria Sun
BEGIN:VEVENT
DTSTART;VALUE=DATE:20240820
DTEND;VALUE=DATE:20240825
DTSTAMP:20260420T005613
CREATED:20240405
LAST-MODIFIED:20240405
UID:4062-1724112000-1724630399@sarahmariasun.de
SUMMARY:John Cage Workshops Halberstadt
DESCRIPTION:This year‘s workshops will be held from August 20-25\, 2024 at the John Cage Haus / John Cage Orgel Stiftung Halberstadt. A great opportunity to meet fellow new vocal music nerds\, getting immense input\, make new friends for a small price! Coachings this year by Christoph Ogiermann (improv)\, Clara Hyerim Byun (piano/Lied)\, Paul Blackman (dance&movement)\, Gunnar Brandt-Sigurdsson (stage tech devices) and myself for singing/performance // see more at https://www.cage academy.de // Supported by the generous Karin und Uwe Hollweg Stiftung
URL:https://sarahmariasun.de/event/john-cage-workshops-halberstadt/
END:VEVENT
END:VCALENDAR