BEGIN:VCALENDAR
VERSION:2.0
PRODID:-//Sarah Maria Sun - ECPv4.0.5//NONSGML v1.0//EN
CALSCALE:GREGORIAN
METHOD:PUBLISH
X-WR-CALNAME:Sarah Maria Sun
X-ORIGINAL-URL:https://sarahmariasun.de
X-WR-CALDESC:Events for Sarah Maria Sun
BEGIN:VEVENT
DTSTART;VALUE=DATE:20240612
DTEND;VALUE=DATE:20240612
DTSTAMP:20260419T162017
CREATED:20240405
LAST-MODIFIED:20240405
UID:4057-1718150400-1718236799@sarahmariasun.de
SUMMARY:Heidelberger Frühling
DESCRIPTION:Trio SILENCE IS GOLDEN / Kilian Herold\, Klarinette / Jan Philip Schulze\, Klavier // Franz Schubert: Der Hirt auf dem Felsen / George Gershwin: The Man I love / Benjamin Britten: Cabaret-Songs / Leonard Bernstein: What a movie (from Trouble in Tahiti) / Johannes Brahms: Es steht ein Haus\, Regenlied\, O die Frauen / Gustav Mahler: Rheinlegendchen\, Verlor‘ne Müh\, Trost im Unglück / Georges Aperghis: Le Rire Physiologique / György Ligeti: Mysteries of the Macabre
URL:https://sarahmariasun.de/event/heidelberger-fruhling-2/
END:VEVENT
END:VCALENDAR