BEGIN:VCALENDAR
VERSION:2.0
PRODID:-//Sarah Maria Sun - ECPv4.0.5//NONSGML v1.0//EN
CALSCALE:GREGORIAN
METHOD:PUBLISH
X-WR-CALNAME:Sarah Maria Sun
X-ORIGINAL-URL:https://sarahmariasun.de
X-WR-CALDESC:Events for Sarah Maria Sun
BEGIN:VEVENT
DTSTART;TZID="Europe/Berlin":20220324T190000
DTEND;TZID="Europe/Berlin":20220324T200000
DTSTAMP:20260421T044744
CREATED:20220124T080117
LAST-MODIFIED:20220124T080117
UID:3650-1648148400-1648152000@sarahmariasun.de
SUMMARY:Hannover\, Villa Seligmann
DESCRIPTION:György Kurtág (geb. 1926): Kafka-Fragmente op. 24 für Sopran und Violine // Elisabeth Kufferath\, violin
URL:https://sarahmariasun.de/event/hannover-villa-seligmann/
LOCATION:Hannover
END:VEVENT
END:VCALENDAR