BEGIN:VCALENDAR
VERSION:2.0
PRODID:-//Sarah Maria Sun - ECPv4.0.5//NONSGML v1.0//EN
CALSCALE:GREGORIAN
METHOD:PUBLISH
X-WR-CALNAME:Sarah Maria Sun
X-ORIGINAL-URL:https://sarahmariasun.de
X-WR-CALDESC:Events for Sarah Maria Sun
BEGIN:VEVENT
DTSTART;VALUE=DATE:20220617
DTEND;VALUE=DATE:20220617
DTSTAMP:20260420T202319
CREATED:20220318
LAST-MODIFIED:20220318
UID:3718-1655424000-1655510399@sarahmariasun.de
SUMMARY:Halle\, KlangArt Vision Festival
DESCRIPTION:Diverse Songs with Till Brönner & Baby Sommer
URL:https://sarahmariasun.de/event/halle-klangart-vision-festival/
END:VEVENT
END:VCALENDAR