BEGIN:VCALENDAR
VERSION:2.0
PRODID:-//Sarah Maria Sun - ECPv4.0.5//NONSGML v1.0//EN
CALSCALE:GREGORIAN
METHOD:PUBLISH
X-WR-CALNAME:Sarah Maria Sun
X-ORIGINAL-URL:https://sarahmariasun.de
X-WR-CALDESC:Events for Sarah Maria Sun
BEGIN:VEVENT
DTSTART;VALUE=DATE:20240223
DTEND;VALUE=DATE:20240223
DTSTAMP:20260419T161838
CREATED:20240225
LAST-MODIFIED:20240225
UID:4050-1708646400-1708732799@sarahmariasun.de
SUMMARY:Großer Sendesaal des NDR\, Hannover
DESCRIPTION:Jörg Widmann: „Aria“ für Streicher / Felix Mendelssohn-Bartholdy: Streichersinfonie Nr 8 D-Dur „Jugendsinfonie“ / Jörg Widmann: „Versuch über die Fuge“ (Fassung für Sopran\, Oboe und Kammerorchester)
URL:https://sarahmariasun.de/event/groser-sendesaal-des-ndr-hannover-2/
END:VEVENT
END:VCALENDAR