BEGIN:VCALENDAR
VERSION:2.0
PRODID:-//Sarah Maria Sun - ECPv4.0.5//NONSGML v1.0//EN
CALSCALE:GREGORIAN
METHOD:PUBLISH
X-WR-CALNAME:Sarah Maria Sun
X-ORIGINAL-URL:https://sarahmariasun.de
X-WR-CALDESC:Events for Sarah Maria Sun
BEGIN:VEVENT
DTSTART;TZID="Europe/Berlin":20220326T200000
DTEND;TZID="Europe/Berlin":20220326T210000
DTSTAMP:20260421T031923
CREATED:20220124T080315
LAST-MODIFIED:20220124T080315
UID:3652-1648324800-1648328400@sarahmariasun.de
SUMMARY:Fribourg\, Museum für Kunst und Geschichte
DESCRIPTION:György Kurtág (geb. 1926): Kafka-Fragmente op. 24 für Sopran und Violine // Elisabeth Kufferath\, violin
URL:https://sarahmariasun.de/event/fribourg-museum-fur-kunst-und-geschichte/
END:VEVENT
END:VCALENDAR