BEGIN:VCALENDAR
VERSION:2.0
PRODID:-//Sarah Maria Sun - ECPv4.0.5//NONSGML v1.0//EN
CALSCALE:GREGORIAN
METHOD:PUBLISH
X-WR-CALNAME:Sarah Maria Sun
X-ORIGINAL-URL:https://sarahmariasun.de
X-WR-CALDESC:Events for Sarah Maria Sun
BEGIN:VEVENT
DTSTART;VALUE=DATE:20210618
DTEND;VALUE=DATE:20210618
DTSTAMP:20260421T112724
CREATED:20201023
LAST-MODIFIED:20201023
UID:3444-1623974400-1624060799@sarahmariasun.de
SUMMARY:Freiburg\, E-Werk
DESCRIPTION:Kurt Weill: Die Sieben Todsünden u.a. Werke  / SWR Orchester
URL:https://sarahmariasun.de/event/freiburg-e-werk-3/
END:VEVENT
END:VCALENDAR