BEGIN:VCALENDAR
VERSION:2.0
PRODID:-//Sarah Maria Sun - ECPv4.0.5//NONSGML v1.0//EN
CALSCALE:GREGORIAN
METHOD:PUBLISH
X-WR-CALNAME:Sarah Maria Sun
X-ORIGINAL-URL:https://sarahmariasun.de
X-WR-CALDESC:Events for Sarah Maria Sun
BEGIN:VEVENT
DTSTART;VALUE=DATE:20240120
DTEND;VALUE=DATE:20240120
DTSTAMP:20260421T125804
CREATED:20231010
LAST-MODIFIED:20231010
UID:4004-1705708800-1705795199@sarahmariasun.de
SUMMARY:Frakzionen Festival\, Bielefeld
DESCRIPTION:Pierrot Populaire // Arnold Schönberg’s Pierrot Lunaire\, mixed up with new moon-struck  compositions by Eivind Buene\, Clemens Thomas\, Johannes Schöllhorn/Max Kowalski\, Matthias Vestergard // Ensemble Recherche
URL:https://sarahmariasun.de/event/frakzionen-festival-bielefeld/
END:VEVENT
END:VCALENDAR