BEGIN:VCALENDAR
VERSION:2.0
PRODID:-//Sarah Maria Sun - ECPv4.0.5//NONSGML v1.0//EN
CALSCALE:GREGORIAN
METHOD:PUBLISH
X-WR-CALNAME:Sarah Maria Sun
X-ORIGINAL-URL:https://sarahmariasun.de
X-WR-CALDESC:Events for Sarah Maria Sun
BEGIN:VEVENT
DTSTART;VALUE=DATE:20230513
DTEND;VALUE=DATE:20230513
DTSTAMP:20260420T133349
CREATED:20230403
LAST-MODIFIED:20230403
UID:3973-1683936000-1684022399@sarahmariasun.de
SUMMARY:Filmpodium Zürich
DESCRIPTION:Bernhard Lang: "DW 16.4" / Martin Jaggi & Adrian Kelterborn: "Constructed Memories" // Soyuz21 / Sarah Maria Sun / Isaï Angst (Electronic\, Soundmaster\, Video) // Tickets
URL:https://sarahmariasun.de/event/filmpodium-zurich/
END:VEVENT
END:VCALENDAR