BEGIN:VCALENDAR
VERSION:2.0
PRODID:-//Sarah Maria Sun - ECPv4.0.5//NONSGML v1.0//EN
CALSCALE:GREGORIAN
METHOD:PUBLISH
X-WR-CALNAME:Sarah Maria Sun
X-ORIGINAL-URL:https://sarahmariasun.de
X-WR-CALDESC:Events for Sarah Maria Sun
BEGIN:VEVENT
DTSTART;VALUE=DATE:20240831
DTEND;VALUE=DATE:20240831
DTSTAMP:20260420T060013
CREATED:20240405
LAST-MODIFIED:20240405
UID:4065-1725062400-1725148799@sarahmariasun.de
SUMMARY:Festival Jardins Musicaux\, Neuchâtel
DESCRIPTION:Kurt Weill: Die Sieben Todsünden & György Ligeti: Mysteries of the Macabre in one staged evening! / Paul Kirby & Stuart Patterson\, tenor / Charles Johnston\, bariton / Grzegorz Różycki\, basse / Christian Rätz\, mise en espace / Samantha Landragin\, costumes / Jean-Philippe Roy\, lumières / Orchestre des Jardins Musicaux Direction : Valentin Reymond
URL:https://sarahmariasun.de/event/copy-of-festival-jardins-musicaux-neuchatel/
END:VEVENT
END:VCALENDAR