BEGIN:VCALENDAR
VERSION:2.0
PRODID:-//Sarah Maria Sun - ECPv4.0.5//NONSGML v1.0//EN
CALSCALE:GREGORIAN
METHOD:PUBLISH
X-WR-CALNAME:Sarah Maria Sun
X-ORIGINAL-URL:https://sarahmariasun.de
X-WR-CALDESC:Events for Sarah Maria Sun
BEGIN:VEVENT
DTSTART;VALUE=DATE:20191112
DTEND;VALUE=DATE:20191112
DTSTAMP:20260420T103910
CREATED:20190302
LAST-MODIFIED:20190302
UID:2771-1573516800-1573603199@sarahmariasun.de
SUMMARY:Berlin\, Hochschule für Musik Hanns Eisler
DESCRIPTION:Workshop zu Grisey: Quatre chants pour franchir le seuil
URL:https://sarahmariasun.de/event/berlin-hochschule-fur-musik-hanns-eisler-5/
END:VEVENT
END:VCALENDAR