BEGIN:VCALENDAR
VERSION:2.0
PRODID:-//Sarah Maria Sun - ECPv4.0.5//NONSGML v1.0//EN
CALSCALE:GREGORIAN
METHOD:PUBLISH
X-WR-CALNAME:Sarah Maria Sun
X-ORIGINAL-URL:https://sarahmariasun.de
X-WR-CALDESC:Events for Sarah Maria Sun
BEGIN:VEVENT
DTSTART;VALUE=DATE:20221022
DTEND;VALUE=DATE:20221022
DTSTAMP:20260420T232307
CREATED:20220124
LAST-MODIFIED:20220124
UID:3679-1666396800-1666483199@sarahmariasun.de
SUMMARY:Basel\, Gare du Nord
DESCRIPTION:Jannik Giger und Leo Hofmann: "Queen of Hearts" // Regie: Benjamin von Bebber 
URL:https://sarahmariasun.de/event/basel-gare-du-nord-8/
END:VEVENT
END:VCALENDAR