BEGIN:VCALENDAR
VERSION:2.0
PRODID:-//Sarah Maria Sun - ECPv4.0.5//NONSGML v1.0//EN
CALSCALE:GREGORIAN
METHOD:PUBLISH
X-WR-CALNAME:Sarah Maria Sun
X-ORIGINAL-URL:https://sarahmariasun.de
X-WR-CALDESC:Events for Sarah Maria Sun
BEGIN:VEVENT
DTSTART;VALUE=DATE:20240707
DTEND;VALUE=DATE:20240707
DTSTAMP:20260419T195350
CREATED:20240405
LAST-MODIFIED:20240405
UID:4059-1720310400-1720396799@sarahmariasun.de
SUMMARY:Bad Kissingen\, Liederwerkstatt Kissinger Sommer
DESCRIPTION:UA Neue Liederzyklen von Marta Gentilucci\, Ying Wang u.a. // Jan Philip Schulze & Axel Bauni & Steffen Schleiermacher\, Klavier / Katriña Paula Felsenberga & SMSun\, Sopran / Michael Pflumm\, Tenor / Peter Schöne\, Bariton 
URL:https://sarahmariasun.de/event/bad-kissingen-liederwerkstatt-kissinger-sommer/
END:VEVENT
END:VCALENDAR