BEGIN:VCALENDAR
VERSION:2.0
PRODID:-//Sarah Maria Sun - ECPv4.0.5//NONSGML v1.0//EN
CALSCALE:GREGORIAN
METHOD:PUBLISH
X-WR-CALNAME:Sarah Maria Sun
X-ORIGINAL-URL:https://sarahmariasun.de
X-WR-CALDESC:Events for Sarah Maria Sun
BEGIN:VEVENT
DTSTART;VALUE=DATE:20260312
DTEND;VALUE=DATE:20260312
DTSTAMP:20260421T100545
CREATED:20260213
LAST-MODIFIED:20260213
UID:4175-1773273600-1773359999@sarahmariasun.de
SUMMARY:AspekteFestival Salzburg
DESCRIPTION:Sara Glojnarić: Songs for the End of the World // Kuss Quartett / Sarah Maria Sun / Paul Hauptmeier & Martin Recker\, Sound Design und Programmierung
URL:https://sarahmariasun.de/event/aspektefestival-salzburg/
END:VEVENT
END:VCALENDAR