BEGIN:VCALENDAR
VERSION:2.0
PRODID:-//Sarah Maria Sun - ECPv4.0.5//NONSGML v1.0//EN
CALSCALE:GREGORIAN
METHOD:PUBLISH
X-WR-CALNAME:Sarah Maria Sun
X-ORIGINAL-URL:https://sarahmariasun.de
X-WR-CALDESC:Events for Sarah Maria Sun
BEGIN:VEVENT
DTSTART;VALUE=DATE:20241220
DTEND;VALUE=DATE:20241220
DTSTAMP:20260420T103518
CREATED:20240930
LAST-MODIFIED:20240930
UID:4079-1734652800-1734739199@sarahmariasun.de
SUMMARY:Antwerpen\, Theaterstudio de Single
DESCRIPTION:Queen of Hearts / performance Sarah Maria Sun&Silvester von Hösslin / composition Jannik Giger&Leo Hofmann / regie\, libretto Benjamin van Bebber / libretto Jude Ellison Sady Doyle / video Flor de Fuego&Benjamin van Bebber
URL:https://sarahmariasun.de/event/antwerpen-theaterstudio-de-single/
END:VEVENT
END:VCALENDAR