BEGIN:VCALENDAR
VERSION:2.0
PRODID:-//Sarah Maria Sun - ECPv4.0.5//NONSGML v1.0//EN
CALSCALE:GREGORIAN
METHOD:PUBLISH
X-WR-CALNAME:Sarah Maria Sun
X-ORIGINAL-URL:http://sarahmariasun.de
X-WR-CALDESC:Events for Sarah Maria Sun
BEGIN:VEVENT
DTSTART;VALUE=DATE:20180311
DTEND;VALUE=DATE:20180311
DTSTAMP:20260422T223613
CREATED:20180214
LAST-MODIFIED:20180214
UID:2358-1520726400-1520812799@sarahmariasun.de
SUMMARY:Zürich\, Salon im Neuhaus
DESCRIPTION:Olivier Messiaen: "Harawi" -\nChant d'Amour et de Mort\n12 Lieder für Sopran und Klavier\n\nreservation erforderlich
URL:http://sarahmariasun.de/event/zurich-salon-im-neuhaus-2/
END:VEVENT
END:VCALENDAR