BEGIN:VCALENDAR
VERSION:2.0
PRODID:-//Sarah Maria Sun - ECPv4.0.5//NONSGML v1.0//EN
CALSCALE:GREGORIAN
METHOD:PUBLISH
X-WR-CALNAME:Sarah Maria Sun
X-ORIGINAL-URL:http://sarahmariasun.de
X-WR-CALDESC:Events for Sarah Maria Sun
BEGIN:VEVENT
DTSTART;VALUE=DATE:20180308
DTEND;VALUE=DATE:20180308
DTSTAMP:20260422T222743
CREATED:20171130
LAST-MODIFIED:20180214
UID:1997-1520467200-1520553599@sarahmariasun.de
SUMMARY:Zürich\, Opera house
DESCRIPTION:Heinz Holliger: LUNEA / director: Andreas Homoki / \nwith Christian Gerhaher\, Juliane Banse\, Annett Schönmüller\, Ivan Ludlow
URL:http://sarahmariasun.de/event/zurich-opera-house-6/
END:VEVENT
END:VCALENDAR