BEGIN:VCALENDAR
VERSION:2.0
PRODID:-//Sarah Maria Sun - ECPv4.0.5//NONSGML v1.0//EN
CALSCALE:GREGORIAN
METHOD:PUBLISH
X-WR-CALNAME:Sarah Maria Sun
X-ORIGINAL-URL:http://sarahmariasun.de
X-WR-CALDESC:Events for Sarah Maria Sun
BEGIN:VEVENT
DTSTART;VALUE=DATE:20180318
DTEND;VALUE=DATE:20180318
DTSTAMP:20260422T192216
CREATED:20171129
LAST-MODIFIED:20180214
UID:2000-1521331200-1521417599@sarahmariasun.de
SUMMARY:Zürich\, Opera house
DESCRIPTION:Heinz Holliger: LUNEA / director: Andreas Homoki / \nwith Christian Gerhaher\, Juliane Banse\, Annett Schönmüller\, Ivan Ludlow
URL:http://sarahmariasun.de/event/zurich-opera-house-4/
END:VEVENT
END:VCALENDAR