BEGIN:VCALENDAR
VERSION:2.0
PRODID:-//Sarah Maria Sun - ECPv4.0.5//NONSGML v1.0//EN
CALSCALE:GREGORIAN
METHOD:PUBLISH
X-WR-CALNAME:Sarah Maria Sun
X-ORIGINAL-URL:http://sarahmariasun.de
X-WR-CALDESC:Events for Sarah Maria Sun
BEGIN:VEVENT
DTSTART;VALUE=DATE:20151108
DTEND;VALUE=DATE:20151108
DTSTAMP:20260423T044415
CREATED:20151212
LAST-MODIFIED:20151212
UID:1373-1446940800-1447027199@sarahmariasun.de
SUMMARY:Wien\, Rabenhof
DESCRIPTION:Arturo Fuentes\, Manuela Kerer: Whatever WorksLibretto: Dimitré Dinev\nRegie: Michael Scheidl
URL:http://sarahmariasun.de/event/wien-rabenhof-2/
END:VEVENT
END:VCALENDAR