BEGIN:VCALENDAR
VERSION:2.0
PRODID:-//Sarah Maria Sun - ECPv4.0.5//NONSGML v1.0//EN
CALSCALE:GREGORIAN
METHOD:PUBLISH
X-WR-CALNAME:Sarah Maria Sun
X-ORIGINAL-URL:http://sarahmariasun.de
X-WR-CALDESC:Events for Sarah Maria Sun
BEGIN:VEVENT
DTSTART;VALUE=DATE:20181124
DTEND;VALUE=DATE:20181124
DTSTAMP:20260422T154044
CREATED:20171117
LAST-MODIFIED:20180214
UID:2222-1543017600-1543103999@sarahmariasun.de
SUMMARY:Wien Modern
DESCRIPTION:Peter Ruzicka: Mnemosyne for chamber orchestra and soprano / \nConductor: Peter Ruzicka
URL:http://sarahmariasun.de/event/wien-modern-2/
END:VEVENT
END:VCALENDAR