BEGIN:VCALENDAR
VERSION:2.0
PRODID:-//Sarah Maria Sun - ECPv4.0.5//NONSGML v1.0//EN
CALSCALE:GREGORIAN
METHOD:PUBLISH
X-WR-CALNAME:Sarah Maria Sun
X-ORIGINAL-URL:http://sarahmariasun.de
X-WR-CALDESC:Events for Sarah Maria Sun
BEGIN:VEVENT
DTSTART;VALUE=DATE:20190213
DTEND;VALUE=DATE:20190215
DTSTAMP:20260422T124715
CREATED:20181011
LAST-MODIFIED:20181206
UID:2604-1550016000-1550275199@sarahmariasun.de
SUMMARY:Stuttgart\, Musikhochschule
DESCRIPTION:masterclasses and concert with students of the Musikhochschule Stuttgart and Angelika Lutz
URL:http://sarahmariasun.de/event/stuttgart-musikhochschule/
END:VEVENT
END:VCALENDAR