BEGIN:VCALENDAR
VERSION:2.0
PRODID:-//Sarah Maria Sun - ECPv4.0.5//NONSGML v1.0//EN
CALSCALE:GREGORIAN
METHOD:PUBLISH
X-WR-CALNAME:Sarah Maria Sun
X-ORIGINAL-URL:http://sarahmariasun.de
X-WR-CALDESC:Events for Sarah Maria Sun
BEGIN:VEVENT
DTSTART;VALUE=DATE:20160319
DTEND;VALUE=DATE:20160319
DTSTAMP:20260423T063105
CREATED:20160214
LAST-MODIFIED:20160225
UID:1623-1458345600-1458431999@sarahmariasun.de
SUMMARY:Stuttgart\, Hospitalhof
DESCRIPTION:Future Pitch Präsentation Neuer Kinderopern von den Preisträgern des Future Pitch 2015:Zad Moultaka\, Stefen Ebel\, Fay NearyindieOper e.v. 
URL:http://sarahmariasun.de/event/stuttgart-hospitalhof/
END:VEVENT
END:VCALENDAR