BEGIN:VCALENDAR
VERSION:2.0
PRODID:-//Sarah Maria Sun - ECPv4.0.5//NONSGML v1.0//EN
CALSCALE:GREGORIAN
METHOD:PUBLISH
X-WR-CALNAME:Sarah Maria Sun
X-ORIGINAL-URL:http://sarahmariasun.de
X-WR-CALDESC:Events for Sarah Maria Sun
BEGIN:VEVENT
DTSTART;VALUE=DATE:20170205
DTEND;VALUE=DATE:20170205
DTSTAMP:20260423T031503
CREATED:20151212
LAST-MODIFIED:20160608
UID:1398-1486252800-1486339199@sarahmariasun.de
SUMMARY:Stuttgart\, Eclat-Festival Theaterhaus
DESCRIPTION:Johannes Schöllhorn: "Va" UA für Sopran und Orchester / SWR Orchester / conductor: Peter Rundel
URL:http://sarahmariasun.de/event/stuttgart-eclat-festival-theaterhaus-3/
END:VEVENT
END:VCALENDAR