BEGIN:VCALENDAR
VERSION:2.0
PRODID:-//Sarah Maria Sun - ECPv4.0.5//NONSGML v1.0//EN
CALSCALE:GREGORIAN
METHOD:PUBLISH
X-WR-CALNAME:Sarah Maria Sun
X-ORIGINAL-URL:http://sarahmariasun.de
X-WR-CALDESC:Events for Sarah Maria Sun
BEGIN:VEVENT
DTSTART;VALUE=DATE:20180107
DTEND;VALUE=DATE:20180107
DTSTAMP:20260423T013344
CREATED:20170204
LAST-MODIFIED:20170204
UID:1988-1515283200-1515369599@sarahmariasun.de
SUMMARY:Semperoper Dresden\, Semper Zwei
DESCRIPTION:The killer in me is the killer in you my love / music by Ali N Askin / director: Manfred Weiss / stage design and costumes: Okarina Peter and Timo Dentler
URL:http://sarahmariasun.de/event/semperoper-dresden-semper-zwei/
END:VEVENT
END:VCALENDAR