BEGIN:VCALENDAR
VERSION:2.0
PRODID:-//Sarah Maria Sun - ECPv4.0.5//NONSGML v1.0//EN
CALSCALE:GREGORIAN
METHOD:PUBLISH
X-WR-CALNAME:Sarah Maria Sun
X-ORIGINAL-URL:http://sarahmariasun.de
X-WR-CALDESC:Events for Sarah Maria Sun
BEGIN:VEVENT
DTSTART;VALUE=DATE:20150322
DTEND;VALUE=DATE:20150322
DTSTAMP:20260423T143145
CREATED:20151212
LAST-MODIFIED:20151212
UID:1345-1426982400-1427068799@sarahmariasun.de
SUMMARY:Semperoper Dresden
DESCRIPTION:Die Brüder LöwenherzRegie: Walter Sutcliffe\, Bühne/Kostüm: TimoDentler/Okarina Peter\nKlangregie: Torsten Ottersberg\nMusikalische Leitung: Erik Ona\nUA Premiere\nhttp://www.semperoper.de/spielplan/monat/3/jahr/2015.html\n
URL:http://sarahmariasun.de/event/semperoper-dresden-7/
END:VEVENT
END:VCALENDAR