BEGIN:VCALENDAR
VERSION:2.0
PRODID:-//Sarah Maria Sun - ECPv4.0.5//NONSGML v1.0//EN
CALSCALE:GREGORIAN
METHOD:PUBLISH
X-WR-CALNAME:Sarah Maria Sun
X-ORIGINAL-URL:http://sarahmariasun.de
X-WR-CALDESC:Events for Sarah Maria Sun
BEGIN:VEVENT
DTSTART;VALUE=DATE:20180116
DTEND;VALUE=DATE:20180116
DTSTAMP:20260423T000617
CREATED:20170204
LAST-MODIFIED:20170204
UID:1994-1516060800-1516147199@sarahmariasun.de
SUMMARY:Semper Zwei\, Dresden
DESCRIPTION:The killer in me is the killer in you my love / music by Ali N Askin / director: Manfred Weiss / stage design and costumes: Okarina Peter and Timo Dentler
URL:http://sarahmariasun.de/event/semper-zwei-dresden-5/
END:VEVENT
END:VCALENDAR