BEGIN:VCALENDAR
VERSION:2.0
PRODID:-//Sarah Maria Sun - ECPv4.0.5//NONSGML v1.0//EN
CALSCALE:GREGORIAN
METHOD:PUBLISH
X-WR-CALNAME:Sarah Maria Sun
X-ORIGINAL-URL:http://sarahmariasun.de
X-WR-CALDESC:Events for Sarah Maria Sun
BEGIN:VEVENT
DTSTART;VALUE=DATE:20180909
DTEND;VALUE=DATE:20180909
DTSTAMP:20260422T160156
CREATED:20180502
LAST-MODIFIED:20180502
UID:2438-1536451200-1536537599@sarahmariasun.de
SUMMARY:Schwaz\, Festival Klangspuren
DESCRIPTION:Arturo Fuentes: Monodrama "Carlota's room" / with Klangforum Wien
URL:http://sarahmariasun.de/event/schwaz-festival-klangspuren-2/
END:VEVENT
END:VCALENDAR