BEGIN:VCALENDAR
VERSION:2.0
PRODID:-//Sarah Maria Sun - ECPv4.0.5//NONSGML v1.0//EN
CALSCALE:GREGORIAN
METHOD:PUBLISH
X-WR-CALNAME:Sarah Maria Sun
X-ORIGINAL-URL:http://sarahmariasun.de
X-WR-CALDESC:Events for Sarah Maria Sun
BEGIN:VEVENT
DTSTART;VALUE=DATE:20170825
DTEND;VALUE=DATE:20170825
DTSTAMP:20260422T235111
CREATED:20171130
LAST-MODIFIED:20171130
UID:1944-1503619200-1503705599@sarahmariasun.de
SUMMARY:Ruhrtriennale
DESCRIPTION:Philippe Manoury: KEIN LICHT (world premier)\, opera / text: Elfriede Jelinek / director: Nicolas Stemann 
URL:http://sarahmariasun.de/event/ruhrtriennale-4/
END:VEVENT
END:VCALENDAR