BEGIN:VCALENDAR
VERSION:2.0
PRODID:-//Sarah Maria Sun - ECPv4.0.5//NONSGML v1.0//EN
CALSCALE:GREGORIAN
METHOD:PUBLISH
X-WR-CALNAME:Sarah Maria Sun
X-ORIGINAL-URL:http://sarahmariasun.de
X-WR-CALDESC:Events for Sarah Maria Sun
BEGIN:VEVENT
DTSTART;VALUE=DATE:20170626
DTEND;VALUE=DATE:20170701
DTSTAMP:20260423T013353
CREATED:20161104
LAST-MODIFIED:20161104
UID:1939-1498435200-1498953599@sarahmariasun.de
SUMMARY:Paris\, ManiFeste
DESCRIPTION:Masterclasses and concert with Heinz Holliger / Arnold Schönberg: Herzgewächse\, opus 20 (1911)  / Anton Webern : Fünf Geistliche Lieder\, opus 15 (1921-1922) / Heinz Holliger : Increschantüm (2014) sur des poèmes de Luisa Famos
URL:http://sarahmariasun.de/event/paris-manifeste/
END:VEVENT
END:VCALENDAR