BEGIN:VCALENDAR
VERSION:2.0
PRODID:-//Sarah Maria Sun - ECPv4.0.5//NONSGML v1.0//EN
CALSCALE:GREGORIAN
METHOD:PUBLISH
X-WR-CALNAME:Sarah Maria Sun
X-ORIGINAL-URL:http://sarahmariasun.de
X-WR-CALDESC:Events for Sarah Maria Sun
BEGIN:VEVENT
DTSTART;VALUE=DATE:20181127
DTEND;VALUE=DATE:20181127
DTSTAMP:20260422T172244
CREATED:20181011
LAST-MODIFIED:20181011
UID:2598-1543276800-1543363199@sarahmariasun.de
SUMMARY:Opernhaus Frankfurt
DESCRIPTION:Portrait Konzert Rolf Riehm: Adieu Sirènes UA und andere Werke  / mit Ensemble Modern
URL:http://sarahmariasun.de/event/opernhaus-frankfurt/
END:VEVENT
END:VCALENDAR