BEGIN:VCALENDAR
VERSION:2.0
PRODID:-//Sarah Maria Sun - ECPv4.0.5//NONSGML v1.0//EN
CALSCALE:GREGORIAN
METHOD:PUBLISH
X-WR-CALNAME:Sarah Maria Sun
X-ORIGINAL-URL:http://sarahmariasun.de
X-WR-CALDESC:Events for Sarah Maria Sun
BEGIN:VEVENT
DTSTART;VALUE=DATE:20190211
DTEND;VALUE=DATE:20190212
DTSTAMP:20260422T141248
CREATED:20181011
LAST-MODIFIED:20181206
UID:2603-1549843200-1550015999@sarahmariasun.de
SUMMARY:Nürnberg\, Musikhochschule
DESCRIPTION:masterclass for contemporary vocal Musik and extended vocal techniques for singers\, focus on IQ by Enno Poppe (coproduction of the theatre Nürnberg and the Musikhochschule Nürnberg lying ahead! Check it out!)
URL:http://sarahmariasun.de/event/nurnberg-musikhochschule/
END:VEVENT
END:VCALENDAR